BEGIN:VCALENDAR
VERSION:2.0
PRODID:-//volkerode.de - ECPv6.15.20//NONSGML v1.0//EN
CALSCALE:GREGORIAN
METHOD:PUBLISH
X-WR-CALNAME:volkerode.de
X-ORIGINAL-URL:https://volkerode.de
X-WR-CALDESC:Veranstaltungen für volkerode.de
REFRESH-INTERVAL;VALUE=DURATION:PT1H
X-Robots-Tag:noindex
X-PUBLISHED-TTL:PT1H
BEGIN:VTIMEZONE
TZID:Europe/Berlin
BEGIN:DAYLIGHT
TZOFFSETFROM:+0100
TZOFFSETTO:+0200
TZNAME:CEST
DTSTART:20220327T010000
END:DAYLIGHT
BEGIN:STANDARD
TZOFFSETFROM:+0200
TZOFFSETTO:+0100
TZNAME:CET
DTSTART:20221030T010000
END:STANDARD
BEGIN:DAYLIGHT
TZOFFSETFROM:+0100
TZOFFSETTO:+0200
TZNAME:CEST
DTSTART:20230326T010000
END:DAYLIGHT
BEGIN:STANDARD
TZOFFSETFROM:+0200
TZOFFSETTO:+0100
TZNAME:CET
DTSTART:20231029T010000
END:STANDARD
BEGIN:DAYLIGHT
TZOFFSETFROM:+0100
TZOFFSETTO:+0200
TZNAME:CEST
DTSTART:20240331T010000
END:DAYLIGHT
BEGIN:STANDARD
TZOFFSETFROM:+0200
TZOFFSETTO:+0100
TZNAME:CET
DTSTART:20241027T010000
END:STANDARD
END:VTIMEZONE
BEGIN:VEVENT
DTSTART;TZID=Europe/Berlin:20230625T100000
DTEND;TZID=Europe/Berlin:20230625T160000
DTSTAMP:20260422T042953
CREATED:20230514T162204Z
LAST-MODIFIED:20230514T162646Z
UID:3951-1687687200-1687708800@volkerode.de
SUMMARY:1. Dorfflohmarkt in Volkerode
DESCRIPTION:Der Heimatverein Volkerode lädt ein zum \n1. Dorfflohmarkt in Volkerode\nNeben großartigen Schnäppchen\, diversen Dachbodenfunden und schönen Raritäten erwarten wir Euch an verschiedenen Ständen mit Kaffee\, Kuchen\, Gegrilltem und Getränken. \nEinen Straßen Plan zur Orientierung der Stände bekommt Ihr an jedem Stand.
URL:https://volkerode.de/event/1-dorfflohmarkt-in-volkerode/
LOCATION:Volkerode\, Rosdorf-Volkerode\, 37124
ATTACH;FMTTYPE=image/jpeg:https://volkerode.de/wp-content/uploads/2023/05/flea-market-467729_1280-2.jpg
END:VEVENT
END:VCALENDAR